Package: annotate Version: 1.82.0 Command: rm -rf annotate.buildbin-libdir && mkdir annotate.buildbin-libdir && E:\biocbuild\bbs-3.19-bioc\R\bin\R.exe CMD INSTALL --build --library=annotate.buildbin-libdir annotate_1.82.0.tar.gz StartedAt: 2024-10-17 07:19:44 -0400 (Thu, 17 Oct 2024) EndedAt: 2024-10-17 07:20:47 -0400 (Thu, 17 Oct 2024) EllapsedTime: 63.0 seconds RetCode: 0 Status: OK PackageFile: annotate_1.82.0.zip PackageFileSize: 1.991 MiB