Package: alabaster.matrix Version: 1.4.0 Command: rm -rf alabaster.matrix.buildbin-libdir && mkdir alabaster.matrix.buildbin-libdir && /Users/biocbuild/BBS/utils/build-universal.sh alabaster.matrix_1.4.0.tar.gz /Library/Frameworks/R.framework/Resources/bin/R alabaster.matrix.buildbin-libdir StartedAt: 2024-06-10 00:06:08 -0400 (Mon, 10 Jun 2024) EndedAt: 2024-06-10 00:06:50 -0400 (Mon, 10 Jun 2024) EllapsedTime: 41.9 seconds RetCode: 0 Status: OK PackageFile: alabaster.matrix_1.4.0.tgz PackageFileSize: 715 KiB