Package: affyPLM Version: 1.80.0 Command: /home/biocbuild/R/R-beta-2024-04-15_r86425/bin/R CMD build --keep-empty-dirs --no-resave-data affyPLM StartedAt: 2024-05-08 22:14:36 -0000 (Wed, 08 May 2024) EndedAt: 2024-05-08 22:16:40 -0000 (Wed, 08 May 2024) EllapsedTime: 123.2 seconds RetCode: 0 Status: OK PackageFile: affyPLM_1.80.0.tar.gz PackageFileSize: 6.38 MiB