Package: abseqR Version: 1.22.0 Command: /Library/Frameworks/R.framework/Resources/bin/R CMD build --keep-empty-dirs --no-resave-data abseqR StartedAt: 2024-06-09 17:50:51 -0400 (Sun, 09 Jun 2024) EndedAt: 2024-06-09 17:55:05 -0400 (Sun, 09 Jun 2024) EllapsedTime: 254.2 seconds RetCode: 0 Status: OK PackageFile: abseqR_1.22.0.tar.gz PackageFileSize: 2.899 MiB