Package: VarCon Version: 1.12.0 Command: /home/biocbuild/bbs-3.19-bioc/R/bin/R CMD build --keep-empty-dirs --no-resave-data VarCon StartedAt: 2024-10-16 21:17:48 -0400 (Wed, 16 Oct 2024) EndedAt: 2024-10-16 21:18:42 -0400 (Wed, 16 Oct 2024) EllapsedTime: 54.1 seconds RetCode: 0 Status: OK PackageFile: VarCon_1.12.0.tar.gz PackageFileSize: 1.889 MiB