Package: VaSP Version: 1.16.0 Command: /home/biocbuild/R/R-beta-2024-04-15_r86425/bin/R CMD build --keep-empty-dirs --no-resave-data VaSP StartedAt: 2024-05-09 04:18:10 -0000 (Thu, 09 May 2024) EndedAt: 2024-05-09 04:19:15 -0000 (Thu, 09 May 2024) EllapsedTime: 65.1 seconds RetCode: 0 Status: OK PackageFile: VaSP_1.16.0.tar.gz PackageFileSize: 8.456 MiB