Package: UCSC.utils Version: 1.0.0 Command: rm -rf UCSC.utils.buildbin-libdir && mkdir UCSC.utils.buildbin-libdir && /Users/biocbuild/BBS/utils/build-universal.sh UCSC.utils_1.0.0.tar.gz /Library/Frameworks/R.framework/Resources/bin/R UCSC.utils.buildbin-libdir StartedAt: 2024-06-11 13:38:53 -0400 (Tue, 11 Jun 2024) EndedAt: 2024-06-11 13:39:03 -0400 (Tue, 11 Jun 2024) EllapsedTime: 10.0 seconds RetCode: 0 Status: OK PackageFile: UCSC.utils_1.0.0.tgz PackageFileSize: 282.3 KiB