Package: TissueEnrich Version: 1.24.1 Command: rm -rf TissueEnrich.buildbin-libdir && mkdir TissueEnrich.buildbin-libdir && /Users/biocbuild/BBS/utils/build-universal.sh TissueEnrich_1.24.1.tar.gz /Library/Frameworks/R.framework/Resources/bin/R TissueEnrich.buildbin-libdir StartedAt: 2024-06-10 00:43:49 -0400 (Mon, 10 Jun 2024) EndedAt: 2024-06-10 00:44:31 -0400 (Mon, 10 Jun 2024) EllapsedTime: 41.9 seconds RetCode: 0 Status: OK PackageFile: TissueEnrich_1.24.1.tgz PackageFileSize: 3.628 MiB