Package: TFutils Version: 1.24.0 Command: rm -rf TFutils.buildbin-libdir && mkdir TFutils.buildbin-libdir && /Users/biocbuild/BBS/utils/build-universal.sh TFutils_1.24.0.tar.gz /Library/Frameworks/R.framework/Resources/bin/R TFutils.buildbin-libdir StartedAt: 2024-10-15 20:36:55 -0400 (Tue, 15 Oct 2024) EndedAt: 2024-10-15 20:37:43 -0400 (Tue, 15 Oct 2024) EllapsedTime: 47.4 seconds RetCode: 0 Status: OK PackageFile: TFutils_1.24.0.tgz PackageFileSize: 6.382 MiB