Package: TDbasedUFEadv Version: 1.4.0 Command: rm -rf TDbasedUFEadv.buildbin-libdir && mkdir TDbasedUFEadv.buildbin-libdir && /Users/biocbuild/BBS/utils/build-universal.sh TDbasedUFEadv_1.4.0.tar.gz /Library/Frameworks/R.framework/Resources/bin/R TDbasedUFEadv.buildbin-libdir StartedAt: 2024-06-11 13:31:08 -0400 (Tue, 11 Jun 2024) EndedAt: 2024-06-11 13:32:10 -0400 (Tue, 11 Jun 2024) EllapsedTime: 61.9 seconds RetCode: 0 Status: OK PackageFile: TDbasedUFEadv_1.4.0.tgz PackageFileSize: 3.514 MiB