Package: TDbasedUFEadv Version: 1.4.0 Command: /Library/Frameworks/R.framework/Resources/bin/R CMD INSTALL TDbasedUFEadv StartedAt: 2024-10-16 18:55:32 -0400 (Wed, 16 Oct 2024) EndedAt: 2024-10-16 18:56:04 -0400 (Wed, 16 Oct 2024) EllapsedTime: 32.4 seconds RetCode: 0 Status: OK