Package: SplicingFactory Version: 1.12.0 Command: /Library/Frameworks/R.framework/Resources/bin/R CMD build --keep-empty-dirs --no-resave-data SplicingFactory StartedAt: 2024-10-16 23:39:49 -0400 (Wed, 16 Oct 2024) EndedAt: 2024-10-16 23:41:09 -0400 (Wed, 16 Oct 2024) EllapsedTime: 80.7 seconds RetCode: 0 Status: OK PackageFile: SplicingFactory_1.12.0.tar.gz PackageFileSize: 791.3 KiB