| Back to Multiple platform build/check report for BioC 3.19: simplified long | 
 | 
This page was generated on 2024-10-18 20:37 -0400 (Fri, 18 Oct 2024).
| Hostname | OS | Arch (*) | R version | Installed pkgs | 
|---|---|---|---|---|
| nebbiolo1 | Linux (Ubuntu 22.04.3 LTS) | x86_64 | 4.4.1 (2024-06-14) -- "Race for Your Life" | 4763 | 
| palomino7 | Windows Server 2022 Datacenter | x64 | 4.4.1 (2024-06-14 ucrt) -- "Race for Your Life" | 4500 | 
| merida1 | macOS 12.7.5 Monterey | x86_64 | 4.4.1 (2024-06-14) -- "Race for Your Life" | 4530 | 
| kjohnson1 | macOS 13.6.6 Ventura | arm64 | 4.4.1 (2024-06-14) -- "Race for Your Life" | 4480 | 
| Click on any hostname to see more info about the system (e.g. compilers) (*) as reported by 'uname -p', except on Windows and Mac OS X | ||||
| To the developers/maintainers of the Spectra package: - Allow up to 24 hours (and sometimes 48 hours) for your latest push to git@git.bioconductor.org:packages/Spectra.git to reflect on this report. See Troubleshooting Build Report for more information. - Use the following Renviron settings to reproduce errors and warnings. - If 'R CMD check' started to fail recently on the Linux builder(s) over a missing dependency, add the missing dependency to 'Suggests:' in your DESCRIPTION file. See Renviron.bioc for more information. | 
| Package 2042/2300 | Hostname | OS / Arch | INSTALL | BUILD | CHECK | BUILD BIN | ||||||||
| Spectra 1.14.1  (landing page) RforMassSpectrometry Package Maintainer 
 | nebbiolo1 | Linux (Ubuntu 22.04.3 LTS) / x86_64 | OK | OK | OK |  | ||||||||
| palomino7 | Windows Server 2022 Datacenter / x64 | OK | OK | OK | OK |  | ||||||||
| merida1 | macOS 12.7.5 Monterey / x86_64 | OK | OK | OK | OK |  | ||||||||
| kjohnson1 | macOS 13.6.6 Ventura / arm64 | OK | OK | OK | NA | |||||||||
| QUICK STATS | OS / Arch | INSTALL | BUILD | CHECK | BUILD BIN | |||||||||||||||||
| nebbiolo1 | Linux (Ubuntu 22.04.3 LTS) / x86_64 | 
 | 
 | 
 | ||||||||||||||||||
| palomino7 | Windows Server 2022 Datacenter / x64 | 
 | 
 | 
 | 
 | |||||||||||||||||
| merida1 | macOS 12.7.5 Monterey / x86_64 | 
 | 
 | 
 | 
 | |||||||||||||||||
| kjohnson1 | macOS 13.6.6 Ventura / arm64 | 
 | 
 | 
 | 
 | |||||||||||||||||
| Package 1/13 | Hostname | OS / Arch | INSTALL | BUILD | CHECK | BUILD BIN | ||||||||||||||||
| CompoundDb 1.8.0  (landing page) Johannes Rainer 
 | nebbiolo1 | Linux (Ubuntu 22.04.3 LTS) / x86_64 | OK | OK | OK |  | ||||||||||||||||
| palomino7 | Windows Server 2022 Datacenter / x64 | OK | OK | OK | OK |  | ||||||||||||||||
| merida1 | macOS 12.7.5 Monterey / x86_64 | OK | OK | OK | OK |  | ||||||||||||||||
| kjohnson1 | macOS 13.6.6 Ventura / arm64 | OK | OK | OK | OK |  | ||||||||||||||||
| Package 2/13 | Hostname | OS / Arch | INSTALL | BUILD | CHECK | BUILD BIN | ||||||||||||||||
| hdxmsqc 1.0.1  (landing page) Oliver M. Crook 
 | nebbiolo1 | Linux (Ubuntu 22.04.3 LTS) / x86_64 | OK | OK | OK |  | ||||||||||||||||
| palomino7 | Windows Server 2022 Datacenter / x64 | OK | OK | OK | OK |  | ||||||||||||||||
| merida1 | macOS 12.7.5 Monterey / x86_64 | OK | OK | OK | OK |  | ||||||||||||||||
| kjohnson1 | macOS 13.6.6 Ventura / arm64 | OK | OK | OK | OK |  | ||||||||||||||||
| Package 3/13 | Hostname | OS / Arch | INSTALL | BUILD | CHECK | BUILD BIN | ||||||||||||||||
| MetaboAnnotation 1.8.1  (landing page) Johannes Rainer 
 | nebbiolo1 | Linux (Ubuntu 22.04.3 LTS) / x86_64 | OK | OK | OK |  | ||||||||||||||||
| palomino7 | Windows Server 2022 Datacenter / x64 | OK | OK | OK | OK |  | ||||||||||||||||
| merida1 | macOS 12.7.5 Monterey / x86_64 | OK | OK | OK | OK |  | ||||||||||||||||
| kjohnson1 | macOS 13.6.6 Ventura / arm64 | OK | OK | OK | OK |  | ||||||||||||||||
| Package 4/13 | Hostname | OS / Arch | INSTALL | BUILD | CHECK | BUILD BIN | ||||||||||||||||
| MetCirc 1.34.0  (landing page) Thomas Naake 
 | nebbiolo1 | Linux (Ubuntu 22.04.3 LTS) / x86_64 | OK | OK | OK |  | ||||||||||||||||
| palomino7 | Windows Server 2022 Datacenter / x64 | OK | OK | OK | OK |  | ||||||||||||||||
| merida1 | macOS 12.7.5 Monterey / x86_64 | OK | OK | OK | OK |  | ||||||||||||||||
| kjohnson1 | macOS 13.6.6 Ventura / arm64 | OK | OK | OK | OK |  | ||||||||||||||||
| Package 5/13 | Hostname | OS / Arch | INSTALL | BUILD | CHECK | BUILD BIN | ||||||||||||||||
| Liesa Salzer 
 | nebbiolo1 | Linux (Ubuntu 22.04.3 LTS) / x86_64 | OK | OK | ERROR | |||||||||||||||||
| palomino7 | Windows Server 2022 Datacenter / x64 | OK | OK | ERROR | OK | |||||||||||||||||
| merida1 | macOS 12.7.5 Monterey / x86_64 | OK | OK | ERROR | OK | |||||||||||||||||
| kjohnson1 | macOS 13.6.6 Ventura / arm64 | OK | OK | ERROR | OK | |||||||||||||||||
| Package 6/13 | Hostname | OS / Arch | INSTALL | BUILD | CHECK | BUILD BIN | ||||||||||||||||
| MsBackendMassbank 1.12.0  (landing page) RforMassSpectrometry Package Maintainer 
 | nebbiolo1 | Linux (Ubuntu 22.04.3 LTS) / x86_64 | OK | OK | OK |  | ||||||||||||||||
| palomino7 | Windows Server 2022 Datacenter / x64 | OK | OK | OK | OK |  | ||||||||||||||||
| merida1 | macOS 12.7.5 Monterey / x86_64 | OK | OK | OK | OK |  | ||||||||||||||||
| kjohnson1 | macOS 13.6.6 Ventura / arm64 | OK | OK | OK | OK |  | ||||||||||||||||
| Package 7/13 | Hostname | OS / Arch | INSTALL | BUILD | CHECK | BUILD BIN | ||||||||||||||||
| MsBackendMgf 1.12.0  (landing page) RforMassSpectrometry Package Maintainer 
 | nebbiolo1 | Linux (Ubuntu 22.04.3 LTS) / x86_64 | OK | OK | OK |  | ||||||||||||||||
| palomino7 | Windows Server 2022 Datacenter / x64 | OK | OK | OK | OK |  | ||||||||||||||||
| merida1 | macOS 12.7.5 Monterey / x86_64 | OK | OK | OK | OK |  | ||||||||||||||||
| kjohnson1 | macOS 13.6.6 Ventura / arm64 | OK | OK | OK | OK |  | ||||||||||||||||
| Package 8/13 | Hostname | OS / Arch | INSTALL | BUILD | CHECK | BUILD BIN | ||||||||||||||||
| MsBackendMsp 1.8.0  (landing page) Johannes Rainer 
 | nebbiolo1 | Linux (Ubuntu 22.04.3 LTS) / x86_64 | OK | OK | OK |  | ||||||||||||||||
| palomino7 | Windows Server 2022 Datacenter / x64 | OK | OK | OK | OK |  | ||||||||||||||||
| merida1 | macOS 12.7.5 Monterey / x86_64 | OK | OK | OK | OK |  | ||||||||||||||||
| kjohnson1 | macOS 13.6.6 Ventura / arm64 | OK | OK | OK | OK |  | ||||||||||||||||
| Package 9/13 | Hostname | OS / Arch | INSTALL | BUILD | CHECK | BUILD BIN | ||||||||||||||||
| MsBackendRawFileReader 1.10.0  (landing page) Christian Panse 
 | nebbiolo1 | Linux (Ubuntu 22.04.3 LTS) / x86_64 | OK | OK | OK |  | ||||||||||||||||
| palomino7 | Windows Server 2022 Datacenter / x64 | OK | OK | OK | OK |  | ||||||||||||||||
| merida1 | macOS 12.7.5 Monterey / x86_64 | OK | OK | OK | OK |  | ||||||||||||||||
| kjohnson1 | macOS 13.6.6 Ventura / arm64 | OK | OK | OK | OK |  | ||||||||||||||||
| Package 10/13 | Hostname | OS / Arch | INSTALL | BUILD | CHECK | BUILD BIN | ||||||||||||||||
| MsBackendSql 1.4.0  (landing page) Johannes Rainer 
 | nebbiolo1 | Linux (Ubuntu 22.04.3 LTS) / x86_64 | OK | OK | OK |  | ||||||||||||||||
| palomino7 | Windows Server 2022 Datacenter / x64 | OK | OK | OK | OK |  | ||||||||||||||||
| merida1 | macOS 12.7.5 Monterey / x86_64 | OK | OK | OK | OK |  | ||||||||||||||||
| kjohnson1 | macOS 13.6.6 Ventura / arm64 | OK | OK | OK | OK |  | ||||||||||||||||
| Package 11/13 | Hostname | OS / Arch | INSTALL | BUILD | CHECK | BUILD BIN | ||||||||||||||||
| MsExperiment 1.6.0  (landing page) Laurent Gatto 
 | nebbiolo1 | Linux (Ubuntu 22.04.3 LTS) / x86_64 | OK | OK | WARNINGS |  | ||||||||||||||||
| palomino7 | Windows Server 2022 Datacenter / x64 | OK | OK | WARNINGS | OK |  | ||||||||||||||||
| merida1 | macOS 12.7.5 Monterey / x86_64 | OK | OK | WARNINGS | OK |  | ||||||||||||||||
| kjohnson1 | macOS 13.6.6 Ventura / arm64 | OK | OK | WARNINGS | OK |  | ||||||||||||||||
| Package 12/13 | Hostname | OS / Arch | INSTALL | BUILD | CHECK | BUILD BIN | ||||||||||||||||
| MsQuality 1.4.0  (landing page) Thomas Naake 
 | nebbiolo1 | Linux (Ubuntu 22.04.3 LTS) / x86_64 | OK | OK | OK |  | ||||||||||||||||
| palomino7 | Windows Server 2022 Datacenter / x64 | OK | OK | OK | OK |  | ||||||||||||||||
| merida1 | macOS 12.7.5 Monterey / x86_64 | OK | OK | OK | OK |  | ||||||||||||||||
| kjohnson1 | macOS 13.6.6 Ventura / arm64 | OK | OK | OK | OK |  | ||||||||||||||||
| Package 13/13 | Hostname | OS / Arch | INSTALL | BUILD | CHECK | BUILD BIN | ||||||||||||||||
| xcms 4.2.3  (landing page) Steffen Neumann 
 | nebbiolo1 | Linux (Ubuntu 22.04.3 LTS) / x86_64 | OK | OK | OK |  | ||||||||||||||||
| palomino7 | Windows Server 2022 Datacenter / x64 | OK | OK | WARNINGS | OK |  | ||||||||||||||||
| merida1 | macOS 12.7.5 Monterey / x86_64 | OK | ERROR | skipped | skipped | |||||||||||||||||
| kjohnson1 | macOS 13.6.6 Ventura / arm64 | OK | ERROR | skipped | skipped | |||||||||||||||||