Package: SpatialExperiment Version: 1.14.0 Command: /home/biocbuild/R/R-beta-2024-04-15_r86425/bin/R CMD build --keep-empty-dirs --no-resave-data SpatialExperiment StartedAt: 2024-05-09 03:46:33 -0000 (Thu, 09 May 2024) EndedAt: 2024-05-09 03:47:56 -0000 (Thu, 09 May 2024) EllapsedTime: 83.1 seconds RetCode: 0 Status: OK PackageFile: SpatialExperiment_1.14.0.tar.gz PackageFileSize: 3.676 MiB