Package: SimFFPE Version: 1.16.0 Command: /home/biocbuild/bbs-3.19-bioc/R/bin/R CMD build --keep-empty-dirs --no-resave-data SimFFPE StartedAt: 2024-10-16 20:51:28 -0400 (Wed, 16 Oct 2024) EndedAt: 2024-10-16 20:53:08 -0400 (Wed, 16 Oct 2024) EllapsedTime: 99.2 seconds RetCode: 0 Status: OK PackageFile: SimFFPE_1.16.0.tar.gz PackageFileSize: 750.7 KiB