Package: SeqGSEA Version: 1.44.0 Command: /Library/Frameworks/R.framework/Resources/bin/R CMD build --keep-empty-dirs --no-resave-data SeqGSEA StartedAt: 2024-06-10 04:41:21 -0400 (Mon, 10 Jun 2024) EndedAt: 2024-06-10 04:47:48 -0400 (Mon, 10 Jun 2024) EllapsedTime: 387.1 seconds RetCode: 0 Status: OK PackageFile: SeqGSEA_1.44.0.tar.gz PackageFileSize: 1.601 MiB