Package: Scale4C Version: 1.26.0 Command: /Library/Frameworks/R.framework/Resources/bin/R CMD build --keep-empty-dirs --no-resave-data Scale4C StartedAt: 2024-06-09 18:02:01 -0400 (Sun, 09 Jun 2024) EndedAt: 2024-06-09 18:03:44 -0400 (Sun, 09 Jun 2024) EllapsedTime: 103.1 seconds RetCode: 0 Status: OK PackageFile: Scale4C_1.26.0.tar.gz PackageFileSize: 4.9 MiB