Package: STdeconvolve Version: 1.8.0 Command: rm -rf STdeconvolve.buildbin-libdir && mkdir STdeconvolve.buildbin-libdir && F:\biocbuild\bbs-3.19-bioc\R\bin\R.exe CMD INSTALL --build --library=STdeconvolve.buildbin-libdir STdeconvolve_1.8.0.tar.gz StartedAt: 2024-06-27 09:00:18 -0400 (Thu, 27 Jun 2024) EndedAt: 2024-06-27 09:00:35 -0400 (Thu, 27 Jun 2024) EllapsedTime: 17.1 seconds RetCode: 0 Status: OK PackageFile: STdeconvolve_1.8.0.zip PackageFileSize: 1.964 MiB