Package: SPEM Version: 1.44.0 Command: rm -rf SPEM.buildbin-libdir && mkdir SPEM.buildbin-libdir && /Users/biocbuild/BBS/utils/build-universal.sh SPEM_1.44.0.tar.gz /Library/Frameworks/R.framework/Resources/bin/R SPEM.buildbin-libdir StartedAt: 2024-06-11 13:22:51 -0400 (Tue, 11 Jun 2024) EndedAt: 2024-06-11 13:23:01 -0400 (Tue, 11 Jun 2024) EllapsedTime: 9.8 seconds RetCode: 0 Status: OK PackageFile: SPEM_1.44.0.tgz PackageFileSize: 498.5 KiB