Package: SIMD Version: 1.22.0 Command: /home/biocbuild/bbs-3.19-bioc/R/bin/R CMD build --keep-empty-dirs --no-resave-data SIMD StartedAt: 2024-10-16 20:51:24 -0400 (Wed, 16 Oct 2024) EndedAt: 2024-10-16 20:51:32 -0400 (Wed, 16 Oct 2024) EllapsedTime: 8.0 seconds RetCode: 0 Status: OK PackageFile: SIMD_1.22.0.tar.gz PackageFileSize: 332.8 KiB