Package: SIMD Version: 1.22.0 Command: rm -rf SIMD.buildbin-libdir && mkdir SIMD.buildbin-libdir && /Users/biocbuild/BBS/utils/build-universal.sh SIMD_1.22.0.tar.gz /Library/Frameworks/R.framework/Resources/bin/R SIMD.buildbin-libdir StartedAt: 2024-06-11 13:16:02 -0400 (Tue, 11 Jun 2024) EndedAt: 2024-06-11 13:16:12 -0400 (Tue, 11 Jun 2024) EllapsedTime: 10.9 seconds RetCode: 0 Status: OK PackageFile: SIMD_1.22.0.tgz PackageFileSize: 375.1 KiB