Package: SIMD Version: 1.22.0 Maintainer: Jiadi Zhu MaintainerEmail: 2160090406 at email.szu.edu.cn git_url: https://git.bioconductor.org/packages/SIMD git_branch: RELEASE_3_19 git_last_commit: ad56a8a git_last_commit_date: 2024-04-30 11:09:16 -0400 (Tue, 30 Apr 2024)