Package: SICtools Version: 1.34.0 Command: /Library/Frameworks/R.framework/Resources/bin/R CMD build --keep-empty-dirs --no-resave-data SICtools StartedAt: 2024-10-17 09:17:10 -0400 (Thu, 17 Oct 2024) EndedAt: 2024-10-17 09:18:09 -0400 (Thu, 17 Oct 2024) EllapsedTime: 58.4 seconds RetCode: 0 Status: OK PackageFile: SICtools_1.34.0.tar.gz PackageFileSize: 1.531 MiB