Package: SC3 Version: 1.32.0 Command: rm -rf SC3.buildbin-libdir && mkdir SC3.buildbin-libdir && E:\biocbuild\bbs-3.19-bioc\R\bin\R.exe CMD INSTALL --build --library=SC3.buildbin-libdir SC3_1.32.0.tar.gz StartedAt: 2024-10-17 08:33:54 -0400 (Thu, 17 Oct 2024) EndedAt: 2024-10-17 08:35:10 -0400 (Thu, 17 Oct 2024) EllapsedTime: 76.0 seconds RetCode: 0 Status: OK PackageFile: SC3_1.32.0.zip PackageFileSize: 3.719 MiB