Package: SC3 Version: 1.32.0 Command: /home/biocbuild/bbs-3.19-bioc/R/bin/R CMD INSTALL SC3 StartedAt: 2024-10-16 16:18:16 -0400 (Wed, 16 Oct 2024) EndedAt: 2024-10-16 16:18:56 -0400 (Wed, 16 Oct 2024) EllapsedTime: 39.9 seconds RetCode: 0 Status: OK