Package: RnaSeqSampleSize Version: 2.14.0 Command: /home/biocbuild/R/R-beta-2024-04-15_r86425/bin/R CMD build --keep-empty-dirs --no-resave-data RnaSeqSampleSize StartedAt: 2024-05-09 03:07:13 -0000 (Thu, 09 May 2024) EndedAt: 2024-05-09 03:09:56 -0000 (Thu, 09 May 2024) EllapsedTime: 162.2 seconds RetCode: 0 Status: OK PackageFile: RnaSeqSampleSize_2.14.0.tar.gz PackageFileSize: 226 KiB