Package: Rhtslib Version: 3.0.0 Command: set _R_INSTALL_TIME_PATCHES_=no&& rm -rf Rhtslib.buildbin-libdir && mkdir Rhtslib.buildbin-libdir && E:\biocbuild\bbs-3.19-bioc\R\bin\R.exe CMD INSTALL --build --library=Rhtslib.buildbin-libdir Rhtslib_3.0.0.tar.gz StartedAt: 2024-10-17 08:29:29 -0400 (Thu, 17 Oct 2024) EndedAt: 2024-10-17 08:31:12 -0400 (Thu, 17 Oct 2024) EllapsedTime: 103.5 seconds RetCode: 0 Status: OK PackageFile: Rhtslib_3.0.0.zip PackageFileSize: 6.142 MiB