Package: Rhtslib Version: 3.0.0 Command: set _R_INSTALL_TIME_PATCHES_=no&& rm -rf Rhtslib.buildbin-libdir && mkdir Rhtslib.buildbin-libdir && F:\biocbuild\bbs-3.19-bioc\R\bin\R.exe CMD INSTALL --build --library=Rhtslib.buildbin-libdir Rhtslib_3.0.0.tar.gz StartedAt: 2024-06-27 08:47:20 -0400 (Thu, 27 Jun 2024) EndedAt: 2024-06-27 08:48:49 -0400 (Thu, 27 Jun 2024) EllapsedTime: 88.6 seconds RetCode: 0 Status: OK PackageFile: Rhtslib_3.0.0.zip PackageFileSize: 6.142 MiB