Package: RedisParam Version: 1.6.0 Maintainer: Martin Morgan MaintainerEmail: mtmorgan.bioc at gmail.com git_url: https://git.bioconductor.org/packages/RedisParam git_branch: RELEASE_3_19 git_last_commit: 5c49c91 git_last_commit_date: 2024-04-30 11:43:42 -0400 (Tue, 30 Apr 2024)