Package: ReadqPCR Version: 1.50.0 Command: rm -rf ReadqPCR.buildbin-libdir && mkdir ReadqPCR.buildbin-libdir && /Users/biocbuild/BBS/utils/build-universal.sh ReadqPCR_1.50.0.tar.gz /Library/Frameworks/R.framework/Resources/bin/R ReadqPCR.buildbin-libdir StartedAt: 2024-10-18 20:11:34 -0400 (Fri, 18 Oct 2024) EndedAt: 2024-10-18 20:11:41 -0400 (Fri, 18 Oct 2024) EllapsedTime: 7.0 seconds RetCode: 0 Status: OK PackageFile: ReadqPCR_1.50.0.tgz PackageFileSize: 568 KiB