Package: ReactomePA Version: 1.48.0 Command: rm -rf ReactomePA.buildbin-libdir && mkdir ReactomePA.buildbin-libdir && /Users/biocbuild/BBS/utils/build-universal.sh ReactomePA_1.48.0.tar.gz /Library/Frameworks/R.framework/Resources/bin/R ReactomePA.buildbin-libdir StartedAt: 2024-10-18 20:11:30 -0400 (Fri, 18 Oct 2024) EndedAt: 2024-10-18 20:12:06 -0400 (Fri, 18 Oct 2024) EllapsedTime: 35.2 seconds RetCode: 0 Status: OK PackageFile: ReactomePA_1.48.0.tgz PackageFileSize: 92.62 KiB