Package: RankProd Version: 3.30.0 Command: rm -rf RankProd.buildbin-libdir && mkdir RankProd.buildbin-libdir && /Users/biocbuild/BBS/utils/build-universal.sh RankProd_3.30.0.tar.gz /Library/Frameworks/R.framework/Resources/bin/R RankProd.buildbin-libdir StartedAt: 2024-06-10 00:34:06 -0400 (Mon, 10 Jun 2024) EndedAt: 2024-06-10 00:34:14 -0400 (Mon, 10 Jun 2024) EllapsedTime: 8.0 seconds RetCode: 0 Status: OK PackageFile: RankProd_3.30.0.tgz PackageFileSize: 876.4 KiB