Package: RUVcorr Version: 1.36.0 Command: rm -rf RUVcorr.buildbin-libdir && mkdir RUVcorr.buildbin-libdir && /Users/biocbuild/BBS/utils/build-universal.sh RUVcorr_1.36.0.tar.gz /Library/Frameworks/R.framework/Resources/bin/R RUVcorr.buildbin-libdir StartedAt: 2024-06-10 00:37:08 -0400 (Mon, 10 Jun 2024) EndedAt: 2024-06-10 00:37:18 -0400 (Mon, 10 Jun 2024) EllapsedTime: 10.2 seconds RetCode: 0 Status: OK PackageFile: RUVcorr_1.36.0.tgz PackageFileSize: 793.7 KiB