Package: RUVcorr Version: 1.36.0 Command: /Library/Frameworks/R.framework/Resources/bin/R CMD INSTALL RUVcorr StartedAt: 2024-06-09 15:47:12 -0400 (Sun, 09 Jun 2024) EndedAt: 2024-06-09 15:47:20 -0400 (Sun, 09 Jun 2024) EllapsedTime: 8.0 seconds RetCode: 0 Status: OK