Package: RUVcorr Version: 1.36.0 Command: /Library/Frameworks/R.framework/Resources/bin/R CMD build --keep-empty-dirs --no-resave-data RUVcorr StartedAt: 2024-06-10 03:52:45 -0400 (Mon, 10 Jun 2024) EndedAt: 2024-06-10 03:53:53 -0400 (Mon, 10 Jun 2024) EllapsedTime: 68.3 seconds RetCode: 0 Status: OK PackageFile: RUVcorr_1.36.0.tar.gz PackageFileSize: 672.6 KiB