Package: RUVcorr Version: 1.36.0 Command: rm -rf RUVcorr.buildbin-libdir && mkdir RUVcorr.buildbin-libdir && /Users/biocbuild/BBS/utils/build-universal.sh RUVcorr_1.36.0.tar.gz /Library/Frameworks/R.framework/Resources/bin/R RUVcorr.buildbin-libdir StartedAt: 2024-10-18 20:29:45 -0400 (Fri, 18 Oct 2024) EndedAt: 2024-10-18 20:29:54 -0400 (Fri, 18 Oct 2024) EllapsedTime: 9.1 seconds RetCode: 0 Status: OK PackageFile: RUVcorr_1.36.0.tgz PackageFileSize: 793.5 KiB