Package: ROntoTools Version: 2.32.0 Command: /Library/Frameworks/R.framework/Resources/bin/R CMD build --keep-empty-dirs --no-resave-data ROntoTools StartedAt: 2024-06-09 17:58:34 -0400 (Sun, 09 Jun 2024) EndedAt: 2024-06-09 17:59:19 -0400 (Sun, 09 Jun 2024) EllapsedTime: 45.0 seconds RetCode: 0 Status: OK PackageFile: ROntoTools_2.32.0.tar.gz PackageFileSize: 1.486 MiB