Package: ROCpAI Version: 1.16.0 Command: /Library/Frameworks/R.framework/Resources/bin/R CMD build --keep-empty-dirs --no-resave-data ROCpAI StartedAt: 2024-10-17 07:59:02 -0400 (Thu, 17 Oct 2024) EndedAt: 2024-10-17 07:59:40 -0400 (Thu, 17 Oct 2024) EllapsedTime: 38.5 seconds RetCode: 1 Status: ERROR PackageFile: None PackageFileSize: NA