Package: ROCpAI Version: 1.16.0 Command: rm -rf ROCpAI.buildbin-libdir && mkdir ROCpAI.buildbin-libdir && /Users/biocbuild/BBS/utils/build-universal.sh ROCpAI_1.16.0.tar.gz /Library/Frameworks/R.framework/Resources/bin/R ROCpAI.buildbin-libdir StartedAt: 2024-08-16 17:27:58 -0400 (Fri, 16 Aug 2024) EndedAt: 2024-08-16 17:28:27 -0400 (Fri, 16 Aug 2024) EllapsedTime: 28.6 seconds RetCode: 0 Status: OK PackageFile: ROCpAI_1.16.0.tgz PackageFileSize: 464.9 KiB