Package: RNAmodR.ML Version: 1.18.0 Command: /home/biocbuild/bbs-3.19-bioc/R/bin/R CMD INSTALL RNAmodR.ML StartedAt: 2024-10-16 16:23:02 -0400 (Wed, 16 Oct 2024) EndedAt: 2024-10-16 16:23:59 -0400 (Wed, 16 Oct 2024) EllapsedTime: 57.7 seconds RetCode: 0 Status: OK