Package: RNAmodR.ML Version: 1.18.0 Command: /Library/Frameworks/R.framework/Resources/bin/R CMD INSTALL RNAmodR.ML StartedAt: 2024-10-16 17:24:16 -0400 (Wed, 16 Oct 2024) EndedAt: 2024-10-16 17:25:26 -0400 (Wed, 16 Oct 2024) EllapsedTime: 69.6 seconds RetCode: 0 Status: OK