Package: RBGL Version: 1.80.0 Command: /home/biocbuild/R/R-beta-2024-04-15_r86425/bin/R CMD build --keep-empty-dirs --no-resave-data RBGL StartedAt: 2024-05-09 02:49:40 -0000 (Thu, 09 May 2024) EndedAt: 2024-05-09 02:52:45 -0000 (Thu, 09 May 2024) EllapsedTime: 185.3 seconds RetCode: 0 Status: OK PackageFile: RBGL_1.80.0.tar.gz PackageFileSize: 2.874 MiB