Package: RAREsim Version: 1.8.0 Command: rm -rf RAREsim.buildbin-libdir && mkdir RAREsim.buildbin-libdir && /Users/biocbuild/BBS/utils/build-universal.sh RAREsim_1.8.0.tar.gz /Library/Frameworks/R.framework/Resources/bin/R RAREsim.buildbin-libdir StartedAt: 2024-10-18 20:08:27 -0400 (Fri, 18 Oct 2024) EndedAt: 2024-10-18 20:08:31 -0400 (Fri, 18 Oct 2024) EllapsedTime: 4.5 seconds RetCode: 0 Status: OK PackageFile: RAREsim_1.8.0.tgz PackageFileSize: 317.8 KiB