Package: R453Plus1Toolbox Version: 1.54.0 Command: rm -rf R453Plus1Toolbox.buildbin-libdir && mkdir R453Plus1Toolbox.buildbin-libdir && E:\biocbuild\bbs-3.19-bioc\R\bin\R.exe CMD INSTALL --build --library=R453Plus1Toolbox.buildbin-libdir R453Plus1Toolbox_1.54.0.tar.gz StartedAt: 2024-10-17 08:25:05 -0400 (Thu, 17 Oct 2024) EndedAt: 2024-10-17 08:33:49 -0400 (Thu, 17 Oct 2024) EllapsedTime: 524.5 seconds RetCode: 0 Status: OK PackageFile: R453Plus1Toolbox_1.54.0.zip PackageFileSize: 2.251 MiB