Package: QuaternaryProd Version: 1.38.0 Command: /Library/Frameworks/R.framework/Resources/bin/R CMD build --keep-empty-dirs --no-resave-data QuaternaryProd StartedAt: 2024-10-16 22:20:37 -0400 (Wed, 16 Oct 2024) EndedAt: 2024-10-16 22:33:53 -0400 (Wed, 16 Oct 2024) EllapsedTime: 796.5 seconds RetCode: 0 Status: OK PackageFile: QuaternaryProd_1.38.0.tar.gz PackageFileSize: 10.75 MiB