Package: PathoStat Version: 1.30.0 Command: rm -rf PathoStat.buildbin-libdir && mkdir PathoStat.buildbin-libdir && /Users/biocbuild/BBS/utils/build-universal.sh PathoStat_1.30.0.tar.gz /Library/Frameworks/R.framework/Resources/bin/R PathoStat.buildbin-libdir StartedAt: 2024-10-18 19:54:08 -0400 (Fri, 18 Oct 2024) EndedAt: 2024-10-18 19:54:59 -0400 (Fri, 18 Oct 2024) EllapsedTime: 51.5 seconds RetCode: 0 Status: OK PackageFile: PathoStat_1.30.0.tgz PackageFileSize: 1.046 MiB