Package: PathNet Version: 1.44.0 Command: chmod a+r PathNet -R && F:\biocbuild\bbs-3.19-bioc\R\bin\R.exe CMD build --keep-empty-dirs --no-resave-data PathNet StartedAt: 2024-06-26 20:52:28 -0400 (Wed, 26 Jun 2024) EndedAt: 2024-06-26 20:54:23 -0400 (Wed, 26 Jun 2024) EllapsedTime: 115.0 seconds RetCode: 0 Status: OK PackageFile: PathNet_1.44.0.tar.gz PackageFileSize: 720 KiB