Package: PathNet Version: 1.44.0 Command: rm -rf PathNet.buildbin-libdir && mkdir PathNet.buildbin-libdir && F:\biocbuild\bbs-3.19-bioc\R\bin\R.exe CMD INSTALL --build --library=PathNet.buildbin-libdir PathNet_1.44.0.tar.gz StartedAt: 2024-06-27 08:39:14 -0400 (Thu, 27 Jun 2024) EndedAt: 2024-06-27 08:39:39 -0400 (Thu, 27 Jun 2024) EllapsedTime: 24.8 seconds RetCode: 0 Status: OK PackageFile: PathNet_1.44.0.zip PackageFileSize: 233.2 KiB