Package: Path2PPI Version: 1.34.0 Command: /home/biocbuild/R/R-beta-2024-04-15_r86425/bin/R CMD build --keep-empty-dirs --no-resave-data Path2PPI StartedAt: 2024-05-09 02:23:58 -0000 (Thu, 09 May 2024) EndedAt: 2024-05-09 02:24:15 -0000 (Thu, 09 May 2024) EllapsedTime: 17.0 seconds RetCode: 0 Status: OK PackageFile: Path2PPI_1.34.0.tar.gz PackageFileSize: 1.273 MiB