Package: Oscope Version: 1.34.0 Command: /Library/Frameworks/R.framework/Resources/bin/R CMD build --keep-empty-dirs --no-resave-data Oscope StartedAt: 2024-06-09 17:36:19 -0400 (Sun, 09 Jun 2024) EndedAt: 2024-06-09 17:40:24 -0400 (Sun, 09 Jun 2024) EllapsedTime: 245.5 seconds RetCode: 0 Status: OK PackageFile: Oscope_1.34.0.tar.gz PackageFileSize: 1.159 MiB